BEGIN:VCALENDAR
VERSION:2.0
PRODID:-//LEIT DATA - ECPv6.15.18//NONSGML v1.0//EN
CALSCALE:GREGORIAN
METHOD:PUBLISH
X-ORIGINAL-URL:https://leit-data.com
X-WR-CALDESC:Events for LEIT DATA
REFRESH-INTERVAL;VALUE=DURATION:PT1H
X-Robots-Tag:noindex
X-PUBLISHED-TTL:PT1H
BEGIN:VTIMEZONE
TZID:Europe/London
BEGIN:DAYLIGHT
TZOFFSETFROM:+0000
TZOFFSETTO:+0100
TZNAME:BST
DTSTART:20240331T010000
END:DAYLIGHT
BEGIN:STANDARD
TZOFFSETFROM:+0100
TZOFFSETTO:+0000
TZNAME:GMT
DTSTART:20241027T010000
END:STANDARD
BEGIN:DAYLIGHT
TZOFFSETFROM:+0000
TZOFFSETTO:+0100
TZNAME:BST
DTSTART:20250330T010000
END:DAYLIGHT
BEGIN:STANDARD
TZOFFSETFROM:+0100
TZOFFSETTO:+0000
TZNAME:GMT
DTSTART:20251026T010000
END:STANDARD
BEGIN:DAYLIGHT
TZOFFSETFROM:+0000
TZOFFSETTO:+0100
TZNAME:BST
DTSTART:20260329T010000
END:DAYLIGHT
BEGIN:STANDARD
TZOFFSETFROM:+0100
TZOFFSETTO:+0000
TZNAME:GMT
DTSTART:20261025T010000
END:STANDARD
END:VTIMEZONE
BEGIN:VEVENT
DTSTART;TZID=Europe/London:20250804T170000
DTEND;TZID=Europe/London:20250804T180000
DTSTAMP:20260419T142131
CREATED:20250731T092004Z
LAST-MODIFIED:20250731T092004Z
UID:9635-1754326800-1754330400@leit-data.com
SUMMARY:Staying Human in the AI Era
DESCRIPTION:Ramona returns to the podcast for a focused discussion on what it truly means to be human in the AI era.  \nBuilding on prior conversations about the human-professional double helix and the dashboard for the human spirit\, this episode shifts to actionable insights.  \nRamona will address critical challenges such as the AI seduction cycle\, the AI echo chamber\, and the AI janitor role\, providing concrete approaches she employs to maintain agency. The discussion will also explore the shifting source of truth in an AI world and how individuals can reconnect with their personal ground truth.  \nListen in for their initial thoughts on the “context layer” for future agentic frameworks.
URL:https://leit-data.com/event/staying-human-in-the-ai-era/
LOCATION:LinkedIn Live
ATTACH;FMTTYPE=image/png:https://leit-data.com/wp-content/uploads/2025/07/staying_human_in_the_ai_era_agency_echo_chambers__the_context_layer.png
ORGANIZER;CN="LEIT DATA":MAILTO:info@leit.ltd
END:VEVENT
BEGIN:VEVENT
DTSTART;TZID=Europe/London:20250811T170000
DTEND;TZID=Europe/London:20250811T180000
DTSTAMP:20260419T142131
CREATED:20250805T121636Z
LAST-MODIFIED:20250805T121636Z
UID:9648-1754931600-1754935200@leit-data.com
SUMMARY:Product-Orientated Data Engineering and Management
DESCRIPTION:Join Chris Tabb and Jean-Georges Perrin as they discuss: Bitol\, open standards for data contracts and data products.
URL:https://leit-data.com/event/product-orientated-data-engineering-and-management/
LOCATION:LinkedIn Live
ATTACH;FMTTYPE=image/png:https://leit-data.com/wp-content/uploads/2025/08/product_orientated-_data_engineering__management.png
ORGANIZER;CN="LEIT DATA":MAILTO:info@leit.ltd
END:VEVENT
BEGIN:VEVENT
DTSTART;TZID=Europe/London:20250827T180000
DTEND;TZID=Europe/London:20250827T233000
DTSTAMP:20260419T142131
CREATED:20250731T134033Z
LAST-MODIFIED:20250731T134033Z
UID:9637-1756317600-1756337400@leit-data.com
SUMMARY:Data Meet-Up Vol.29
DESCRIPTION:LEIT DATA meetups provide a fantastic opportunity for individuals to connect\, share ideas\, and learn from one another in a laid-back environment. Whether you’re a seasoned professional or just starting out\, attending our informal data meetups in London are a great way to expand your network\, gain new perspectives\, and stay up-to-date with the latest trends in the evolving field of data.\nAll this and free 🍕🍕🍕
URL:https://leit-data.com/event/data-meet-up-vol-29/
LOCATION:Q Bar\, 55-61 Tabernacle Street\, London\, EC2A 4LE\, United Kingdom
ATTACH;FMTTYPE=image/png:https://leit-data.com/wp-content/uploads/2025/07/meetup_29.png
ORGANIZER;CN="LEIT DATA":MAILTO:info@leit.ltd
END:VEVENT
END:VCALENDAR