BEGIN:VCALENDAR
VERSION:2.0
PRODID:-//LEIT DATA - ECPv6.15.20//NONSGML v1.0//EN
CALSCALE:GREGORIAN
METHOD:PUBLISH
X-ORIGINAL-URL:https://leit-data.com
X-WR-CALDESC:Events for LEIT DATA
REFRESH-INTERVAL;VALUE=DURATION:PT1H
X-Robots-Tag:noindex
X-PUBLISHED-TTL:PT1H
BEGIN:VTIMEZONE
TZID:Europe/London
BEGIN:DAYLIGHT
TZOFFSETFROM:+0000
TZOFFSETTO:+0100
TZNAME:BST
DTSTART:20240331T010000
END:DAYLIGHT
BEGIN:STANDARD
TZOFFSETFROM:+0100
TZOFFSETTO:+0000
TZNAME:GMT
DTSTART:20241027T010000
END:STANDARD
BEGIN:DAYLIGHT
TZOFFSETFROM:+0000
TZOFFSETTO:+0100
TZNAME:BST
DTSTART:20250330T010000
END:DAYLIGHT
BEGIN:STANDARD
TZOFFSETFROM:+0100
TZOFFSETTO:+0000
TZNAME:GMT
DTSTART:20251026T010000
END:STANDARD
BEGIN:DAYLIGHT
TZOFFSETFROM:+0000
TZOFFSETTO:+0100
TZNAME:BST
DTSTART:20260329T010000
END:DAYLIGHT
BEGIN:STANDARD
TZOFFSETFROM:+0100
TZOFFSETTO:+0000
TZNAME:GMT
DTSTART:20261025T010000
END:STANDARD
END:VTIMEZONE
BEGIN:VEVENT
DTSTART;TZID=Europe/London:20250407T170000
DTEND;TZID=Europe/London:20250407T180000
DTSTAMP:20260423T142350
CREATED:20250402T123337Z
LAST-MODIFIED:20250402T123337Z
UID:9137-1744045200-1744048800@leit-data.com
SUMMARY:When to Stream
DESCRIPTION:Topics  \n• From Batch to Real-Time: Modernizing Your Data Pipelines\n• From slow batch jobs to streaming-first approach.\n• Zero-Code CDC: Real-Time Sync Without the Hassle\n• Keep your data fresh—fast.\n• Event-Driven Architectures Made Easy\n• Building scalable\, real-time systems\n• Streaming Transformations: Mask\, Join & Enrich On the Fl\n• Scaling\n• The Future of Data Integration: Real-Time\, Serverless & Scalable\n• A look at where ETL is headed\, shaping the next generation of data tools.
URL:https://leit-data.com/event/when-to-stream/
LOCATION:LinkedIn Live
ATTACH;FMTTYPE=image/png:https://leit-data.com/wp-content/uploads/2025/04/paul_dudley_when_to_stream.png
ORGANIZER;CN="LEIT DATA":MAILTO:info@leit.ltd
END:VEVENT
BEGIN:VEVENT
DTSTART;TZID=Europe/London:20250414T170000
DTEND;TZID=Europe/London:20250414T180000
DTSTAMP:20260423T142350
CREATED:20250410T154312Z
LAST-MODIFIED:20250410T154312Z
UID:9159-1744650000-1744653600@leit-data.com
SUMMARY:Data Culture Theatre
DESCRIPTION:A performance that we all know how to play\, it looks impressive\, everyone’s doing their jobs\, but does it really bring any results if no one stops to think\, is there any real sense being made?
URL:https://leit-data.com/event/data-culture-theatre/
LOCATION:LinkedIn Live
ATTACH;FMTTYPE=image/png:https://leit-data.com/wp-content/uploads/2025/04/Data-Culture-Theatre-Banner.png
ORGANIZER;CN="LEIT DATA":MAILTO:info@leit.ltd
END:VEVENT
BEGIN:VEVENT
DTSTART;TZID=Europe/London:20250423T180000
DTEND;TZID=Europe/London:20250423T233000
DTSTAMP:20260423T142350
CREATED:20250407T091842Z
LAST-MODIFIED:20250407T091842Z
UID:9140-1745431200-1745451000@leit-data.com
SUMMARY:Data Meet-Up Vol.25
DESCRIPTION:LEIT DATA meetups provide a fantastic opportunity for individuals to connect\, share ideas\, and learn from one another in a laid-back environment. \nOur data meetups create a welcoming atmosphere conducive to open conversations. These informal gatherings foster a sense of community and camaraderie among like-minded individuals who are passionate about data. \nWhether you’re a seasoned professional or just starting out\, attending our informal data meetups in London are a great way to expand your network\, gain new perspectives\, and stay up-to-date with the latest trends in the ever-evolving field of data.
URL:https://leit-data.com/event/data-meet-up-vol-25/
LOCATION:Q Bar\, 55-61 Tabernacle Street\, London\, EC2A 4LE\, United Kingdom
ATTACH;FMTTYPE=image/png:https://leit-data.com/wp-content/uploads/2025/04/meetup-25.png
ORGANIZER;CN="LEIT DATA":MAILTO:info@leit.ltd
END:VEVENT
BEGIN:VEVENT
DTSTART;TZID=Europe/London:20250428T170000
DTEND;TZID=Europe/London:20250428T180000
DTSTAMP:20260423T142350
CREATED:20250424T142134Z
LAST-MODIFIED:20250424T142134Z
UID:9180-1745859600-1745863200@leit-data.com
SUMMARY:Dashboard for the Human Spirit
DESCRIPTION:Not the usual business KPIs. \nNot:\n* How much money did we make a company?\n* How much is in our bank account? \nBut maybe: \n* Resilience — how many times have we risen from failure or the ashes?\n* Humanity — how deeply have we let others in?\n* Compassion under pressure — how do we show up in adversity\, in chronic dismissal\, when we’re disregarded or walked all over?\n* Growth — how much have we learned from life?\n* Mindset — how big is our growth mindset meter?\n* Listening — how much do we truly hear others?\n* Space-holding — how much do we let others speak?\n* Intergenerational wisdom — how much do we listen to the elders? To the youngsters? \nSome of these can’t be measured. And maybe that’s the point. \nBut what if we tried? \nA dashboard like this wouldn’t just track performance. It would reflect who we are becoming. \nIn the fast-moving world we live\, the uncertainty and constant threats of becoming obsoIete\, what does it mean to be human?
URL:https://leit-data.com/event/dashboard-for-the-human-spirit/
LOCATION:LinkedIn Live
ATTACH;FMTTYPE=image/png:https://leit-data.com/wp-content/uploads/2025/04/dashboard.png
END:VEVENT
END:VCALENDAR