BEGIN:VCALENDAR
VERSION:2.0
PRODID:-//LEIT DATA - ECPv6.15.20//NONSGML v1.0//EN
CALSCALE:GREGORIAN
METHOD:PUBLISH
X-WR-CALNAME:LEIT DATA
X-ORIGINAL-URL:https://leit-data.com
X-WR-CALDESC:Events for LEIT DATA
REFRESH-INTERVAL;VALUE=DURATION:PT1H
X-Robots-Tag:noindex
X-PUBLISHED-TTL:PT1H
BEGIN:VTIMEZONE
TZID:Europe/London
BEGIN:DAYLIGHT
TZOFFSETFROM:+0000
TZOFFSETTO:+0100
TZNAME:BST
DTSTART:20240331T010000
END:DAYLIGHT
BEGIN:STANDARD
TZOFFSETFROM:+0100
TZOFFSETTO:+0000
TZNAME:GMT
DTSTART:20241027T010000
END:STANDARD
BEGIN:DAYLIGHT
TZOFFSETFROM:+0000
TZOFFSETTO:+0100
TZNAME:BST
DTSTART:20250330T010000
END:DAYLIGHT
BEGIN:STANDARD
TZOFFSETFROM:+0100
TZOFFSETTO:+0000
TZNAME:GMT
DTSTART:20251026T010000
END:STANDARD
BEGIN:DAYLIGHT
TZOFFSETFROM:+0000
TZOFFSETTO:+0100
TZNAME:BST
DTSTART:20260329T010000
END:DAYLIGHT
BEGIN:STANDARD
TZOFFSETFROM:+0100
TZOFFSETTO:+0000
TZNAME:GMT
DTSTART:20261025T010000
END:STANDARD
END:VTIMEZONE
BEGIN:VEVENT
DTSTART;TZID=Europe/London:20250113T170000
DTEND;TZID=Europe/London:20250113T180000
DTSTAMP:20260423T191550
CREATED:20250107T112219Z
LAST-MODIFIED:20250107T112219Z
UID:8914-1736787600-1736791200@leit-data.com
SUMMARY:The 2025 Data Crystal Ball
DESCRIPTION:🔮 Step Into the Future: The 2025 Data Crystal Ball 🌟 \nWhat does the future hold for data in 2025? Are you ready to explore the trends\, challenges\, and innovations shaping the next frontier in data analytics and strategy? \nWe’re excited to welcome a special guest\, Benjamin Rogojan\, also known as The Seattle Data Guy. Benjamin is a renowned data strategist\, consultant\, and thought leader with a proven track record of helping companies unlock the power of their data. \nIn this session\, we’ll uncover:\n🔮 Predictions for the data landscape in 2025\n📊 How to stay ahead in an ever evolving industry\n🚀 Practical advice to future-proof your data strategy \nThis session is perfect for data professionals\, analysts\, and leaders who want to stay ahead of the curve and gain actionable insights from one of the most influential voices in the data community. \n💡 Don’t miss this chance to see what the future holds! \n👉 Join the live discussion! https://www.linkedin.com/events/7282067442455965697/about/
URL:https://leit-data.com/event/the-2025-data-crystal-ball/
ATTACH;FMTTYPE=image/png:https://leit-data.com/wp-content/uploads/2025/01/ben_rogojan_flyer.png
ORGANIZER;CN="LEIT DATA":MAILTO:info@leit.ltd
END:VEVENT
BEGIN:VEVENT
DTSTART;TZID=Europe/London:20250120T170000
DTEND;TZID=Europe/London:20250120T180000
DTSTAMP:20260423T191550
CREATED:20250114T171447Z
LAST-MODIFIED:20250114T171447Z
UID:8941-1737392400-1737396000@leit-data.com
SUMMARY:Accelerating Digital Twin Analytics with AI
DESCRIPTION:Join Chris Tabb COO at LEIT DATA and Jon Cooke CTO at Dataception as they discuss Accelerating Digital Twin Analytics with AI. \nJon brings a wealth of expertise in cutting edge technologies and will share insights on how AI is transforming the creation and deployment of digital twin analytics processes. \nYou’ll Learn:\n• How AI simplifies and accelerates digital twin development\n• Real world applications of digital twin analytics\n• Insights into emerging trends in the AI-driven analytics space \nWhether you’re a data enthusiast\, a tech leader or just curious about digital twins\, get your questions ready and join this live session.
URL:https://leit-data.com/event/accelerating-digital-twin-analytics-with-ai/
ATTACH;FMTTYPE=image/png:https://leit-data.com/wp-content/uploads/2025/01/jon_cooke_twin_ai.png
ORGANIZER;CN="LEIT DATA":MAILTO:info@leit.ltd
END:VEVENT
BEGIN:VEVENT
DTSTART;TZID=Europe/London:20250122T180000
DTEND;TZID=Europe/London:20250122T233000
DTSTAMP:20260423T191550
CREATED:20250121T143624Z
LAST-MODIFIED:20250121T143624Z
UID:8959-1737568800-1737588600@leit-data.com
SUMMARY:Data Meet-Up Vol 21
DESCRIPTION:LEIT DATA meetups provide a fantastic opportunity for individuals to connect\, share ideas\, and learn from one another in a laid-back environment.\nWhether you’re a seasoned professional or just starting out\, attending our informal data meetups in London are a great way to expand your network\, gain new perspectives\, and stay up-to-date with the latest trends in the ever-evolving field of data.\nAll this and free nibbles ! 🍟
URL:https://leit-data.com/event/data-meet-up-vol-21/
LOCATION:Q Bar\, 55-61 Tabernacle Street\, London\, EC2A 4LE\, United Kingdom
ATTACH;FMTTYPE=image/png:https://leit-data.com/wp-content/uploads/2025/01/meetup_21.png
ORGANIZER;CN="LEIT DATA":MAILTO:info@leit.ltd
END:VEVENT
END:VCALENDAR