BEGIN:VCALENDAR
VERSION:2.0
PRODID:-//LEIT DATA - ECPv6.15.18//NONSGML v1.0//EN
CALSCALE:GREGORIAN
METHOD:PUBLISH
X-WR-CALNAME:LEIT DATA
X-ORIGINAL-URL:https://leit-data.com
X-WR-CALDESC:Events for LEIT DATA
REFRESH-INTERVAL;VALUE=DURATION:PT1H
X-Robots-Tag:noindex
X-PUBLISHED-TTL:PT1H
BEGIN:VTIMEZONE
TZID:Europe/London
BEGIN:DAYLIGHT
TZOFFSETFROM:+0000
TZOFFSETTO:+0100
TZNAME:BST
DTSTART:20220327T010000
END:DAYLIGHT
BEGIN:STANDARD
TZOFFSETFROM:+0100
TZOFFSETTO:+0000
TZNAME:GMT
DTSTART:20221030T010000
END:STANDARD
BEGIN:DAYLIGHT
TZOFFSETFROM:+0000
TZOFFSETTO:+0100
TZNAME:BST
DTSTART:20230326T010000
END:DAYLIGHT
BEGIN:STANDARD
TZOFFSETFROM:+0100
TZOFFSETTO:+0000
TZNAME:GMT
DTSTART:20231029T010000
END:STANDARD
BEGIN:DAYLIGHT
TZOFFSETFROM:+0000
TZOFFSETTO:+0100
TZNAME:BST
DTSTART:20240331T010000
END:DAYLIGHT
BEGIN:STANDARD
TZOFFSETFROM:+0100
TZOFFSETTO:+0000
TZNAME:GMT
DTSTART:20241027T010000
END:STANDARD
END:VTIMEZONE
BEGIN:VEVENT
DTSTART;TZID=Europe/London:20230807T170000
DTEND;TZID=Europe/London:20230807T180000
DTSTAMP:20260422T101252
CREATED:20230718T193924Z
LAST-MODIFIED:20230718T193924Z
UID:7726-1691427600-1691431200@leit-data.com
SUMMARY:#5 Increasing value by decreasing friction
DESCRIPTION:In this week’s show we will be looking at how Business Value can be increased by removing friction in your Business Processes \n👉 What Metrics can be used to monitor friction?\n👉 What automation approaches can be used?\n👉 What is orchestration? And can that help\n👉 Latest Trends seen in the Data Space\n👉 What impact will generative AI have in increasing Business Value? \nLinkedIn registration
URL:https://leit-data.com/event/5-increasing-value-by-decreasing-friction/
ATTACH;FMTTYPE=image/png:https://leit-data.com/wp-content/uploads/2023/07/5_arynn_register.png
ORGANIZER;CN="LEIT DATA":MAILTO:info@leit.ltd
END:VEVENT
BEGIN:VEVENT
DTSTART;TZID=Europe/London:20230816T173000
DTEND;TZID=Europe/London:20230816T220000
DTSTAMP:20260422T101252
CREATED:20230629T125702Z
LAST-MODIFIED:20230703T161153Z
UID:7251-1692207000-1692223200@leit-data.com
SUMMARY:Data Meet Up #8 16.8
DESCRIPTION:The London Low Key Happy hour is back. \nBringing together all of London’s Data Professionals from the #meandatastreets to share the latest trends\, topics and experiences \nRegister here to join the meetup
URL:https://leit-data.com/event/data-meet-up-8-16-8/
LOCATION:Q Bar\, 55-61 Tabernacle Street\, London\, EC2A 4LE\, United Kingdom
ATTACH;FMTTYPE=image/png:https://leit-data.com/wp-content/uploads/2023/07/meetup8.png
ORGANIZER;CN="LEIT DATA":MAILTO:info@leit.ltd
END:VEVENT
BEGIN:VEVENT
DTSTART;TZID=Europe/London:20230821T170000
DTEND;TZID=Europe/London:20230821T180000
DTSTAMP:20260422T101252
CREATED:20230808T133523Z
LAST-MODIFIED:20230808T134021Z
UID:7854-1692637200-1692640800@leit-data.com
SUMMARY:#6 The Value of Understanding Industry Trends
DESCRIPTION:Join Chris Tabb and Greg Coquillo where they will be discussing the following topics: \n• What’s a Hype Cycle\n• What’s happened in the past to things they have been Hyped\n• What is the Next Big thing\n• How to keep ahead in a fast-paced environment. \nLinkedIn registration
URL:https://leit-data.com/event/6-the-value-of-understanding-industry-trends/
ATTACH;FMTTYPE=image/png:https://leit-data.com/wp-content/uploads/2023/08/6.png
ORGANIZER;CN="LEIT DATA":MAILTO:info@leit.ltd
END:VEVENT
BEGIN:VEVENT
DTSTART;TZID=Europe/London:20230828T170000
DTEND;TZID=Europe/London:20230828T180000
DTSTAMP:20260422T101252
CREATED:20230823T111635Z
LAST-MODIFIED:20230823T112240Z
UID:7896-1693242000-1693245600@leit-data.com
SUMMARY:#7 Data Modeling Boosting Business Value Busting Limitations
DESCRIPTION:Join Chris Tabb and Veronika Durgin where they will be discussing the following topics: \n• How does a Data Model increase business value?\n• Should we map Business Process to Data Models?\n• What’s the future of Databases?\n• Why are foreign keys a foreign language for so many?\n• JBOT vs Kimball vs Inmon vs DataVault vs Burn it all Down. \nLinkedIn registration
URL:https://leit-data.com/event/7-data-modeling-boosting-business-value-busting-limitations/
ATTACH;FMTTYPE=image/jpeg:https://leit-data.com/wp-content/uploads/2023/08/1692631330667.jpeg
ORGANIZER;CN="LEIT DATA":MAILTO:info@leit.ltd
END:VEVENT
END:VCALENDAR