BEGIN:VCALENDAR
VERSION:2.0
PRODID:-//LEIT DATA - ECPv6.15.18//NONSGML v1.0//EN
CALSCALE:GREGORIAN
METHOD:PUBLISH
X-ORIGINAL-URL:https://leit-data.com
X-WR-CALDESC:Events for LEIT DATA
REFRESH-INTERVAL;VALUE=DURATION:PT1H
X-Robots-Tag:noindex
X-PUBLISHED-TTL:PT1H
BEGIN:VTIMEZONE
TZID:Europe/London
BEGIN:DAYLIGHT
TZOFFSETFROM:+0000
TZOFFSETTO:+0100
TZNAME:BST
DTSTART:20220327T010000
END:DAYLIGHT
BEGIN:STANDARD
TZOFFSETFROM:+0100
TZOFFSETTO:+0000
TZNAME:GMT
DTSTART:20221030T010000
END:STANDARD
BEGIN:DAYLIGHT
TZOFFSETFROM:+0000
TZOFFSETTO:+0100
TZNAME:BST
DTSTART:20230326T010000
END:DAYLIGHT
BEGIN:STANDARD
TZOFFSETFROM:+0100
TZOFFSETTO:+0000
TZNAME:GMT
DTSTART:20231029T010000
END:STANDARD
BEGIN:DAYLIGHT
TZOFFSETFROM:+0000
TZOFFSETTO:+0100
TZNAME:BST
DTSTART:20240331T010000
END:DAYLIGHT
BEGIN:STANDARD
TZOFFSETFROM:+0100
TZOFFSETTO:+0000
TZNAME:GMT
DTSTART:20241027T010000
END:STANDARD
END:VTIMEZONE
BEGIN:VEVENT
DTSTART;VALUE=DATE:20230324
DTEND;VALUE=DATE:20230325
DTSTAMP:20260422T132834
CREATED:20221019T145259Z
LAST-MODIFIED:20230130T100512Z
UID:6889-1679616000-1679702399@leit-data.com
SUMMARY:SKID   Skiers In Data
DESCRIPTION:LEIT DATA is hosting the inaugural Skiers In Data event at the world-renowned W Hotel\,  in the beautiful ski resort of Verbier\, Switzerland. \nA one-day industry-leading forum combining discussion and learning on Data Management. Including presentations from industry experts and best-in-class vendors\, a panel discussion and a world-class skier/motivational speaker. \nhttps://skiersindata.com/ \n  \n 
URL:https://leit-data.com/event/skid-skiers-in-data/
LOCATION:W Hotel Verbier\, Rue de Médran 70\, 1936 Verbier\, Switzerland
ATTACH;FMTTYPE=image/jpeg:https://leit-data.com/wp-content/uploads/2022/10/skid_flyer.jpg
END:VEVENT
BEGIN:VEVENT
DTSTART;TZID=Europe/London:20230330T170000
DTEND;TZID=Europe/London:20230330T180000
DTSTAMP:20260422T132834
CREATED:20230314T125132Z
LAST-MODIFIED:20230314T125132Z
UID:7163-1680195600-1680199200@leit-data.com
SUMMARY:The 5 Pitfalls of Data Ops
DESCRIPTION:What are the capabilities required for Data Ops\, what skills does your team need\, and what does success look like? We’ll explore this and more as we discuss the 5 pitfalls of data ops (don’t be surprised if we have more than 5 to talk about!). \nRegister here to join this session
URL:https://leit-data.com/event/the-5-pitfalls-of-data-ops/
ATTACH;FMTTYPE=image/jpeg:https://leit-data.com/wp-content/uploads/2023/03/1678392588379-2.jpeg
END:VEVENT
END:VCALENDAR