BEGIN:VCALENDAR
VERSION:2.0
PRODID:-//LEIT DATA - ECPv6.15.18//NONSGML v1.0//EN
CALSCALE:GREGORIAN
METHOD:PUBLISH
X-WR-CALNAME:LEIT DATA
X-ORIGINAL-URL:https://leit-data.com
X-WR-CALDESC:Events for LEIT DATA
REFRESH-INTERVAL;VALUE=DURATION:PT1H
X-Robots-Tag:noindex
X-PUBLISHED-TTL:PT1H
BEGIN:VTIMEZONE
TZID:Europe/London
BEGIN:DAYLIGHT
TZOFFSETFROM:+0000
TZOFFSETTO:+0100
TZNAME:BST
DTSTART:20210328T010000
END:DAYLIGHT
BEGIN:STANDARD
TZOFFSETFROM:+0100
TZOFFSETTO:+0000
TZNAME:GMT
DTSTART:20211031T010000
END:STANDARD
BEGIN:DAYLIGHT
TZOFFSETFROM:+0000
TZOFFSETTO:+0100
TZNAME:BST
DTSTART:20220327T010000
END:DAYLIGHT
BEGIN:STANDARD
TZOFFSETFROM:+0100
TZOFFSETTO:+0000
TZNAME:GMT
DTSTART:20221030T010000
END:STANDARD
BEGIN:DAYLIGHT
TZOFFSETFROM:+0000
TZOFFSETTO:+0100
TZNAME:BST
DTSTART:20230326T010000
END:DAYLIGHT
BEGIN:STANDARD
TZOFFSETFROM:+0100
TZOFFSETTO:+0000
TZNAME:GMT
DTSTART:20231029T010000
END:STANDARD
END:VTIMEZONE
BEGIN:VEVENT
DTSTART;TZID=Europe/London:20221004T110000
DTEND;TZID=Europe/London:20221005T150000
DTSTAMP:20260422T232157
CREATED:20220810T115249Z
LAST-MODIFIED:20220907T123043Z
UID:5623-1664881200-1664982000@leit-data.com
SUMMARY:Modern DataFest
DESCRIPTION:We are excited to bring together thousands of data professionals to learn from the very best speakers\, and to engage with each other. FREE to attend and streaming LIVE on LinkedIn & YouTube.
URL:https://leit-data.com/event/modern-datafest/
ATTACH;FMTTYPE=image/png:https://leit-data.com/wp-content/uploads/2022/08/62d3209eada60686a8815012_MDF-Banner.png
ORGANIZER;CN="LEIT DATA":MAILTO:info@leit.ltd
END:VEVENT
BEGIN:VEVENT
DTSTART;TZID=Europe/London:20221011T090000
DTEND;TZID=Europe/London:20221011T183000
DTSTAMP:20260422T232157
CREATED:20220907T141913Z
LAST-MODIFIED:20220909T095759Z
UID:6447-1665478800-1665513000@leit-data.com
SUMMARY:DATA CLOUD WORLD TOUR
DESCRIPTION:The Data Cloud World Tour is making a stop in London to showcase the latest innovations to Snowflake’s Data Cloud. \nThis event is all about collaborating with data in ways unimaginable just a few years ago. Join us and your fellow data leaders to learn about the latest capabilities of the Data Cloud\, our newest data workloads\, and innovative new use cases that can help drive your business forward.
URL:https://leit-data.com/event/data-cloud-world-tour/
ATTACH;FMTTYPE=image/png:https://leit-data.com/wp-content/uploads/2022/09/DCWT_London_LEIT_1200x628@1x.png
END:VEVENT
END:VCALENDAR